Package: pandaR Version: 1.24.0 Command: /home/biocbuild/bbs-3.13-bioc/R/bin/R CMD check --install=check:pandaR.install-out.txt --library=/home/biocbuild/bbs-3.13-bioc/R/library --no-vignettes --timings pandaR_1.24.0.tar.gz StartedAt: 2021-10-14 10:55:30 -0400 (Thu, 14 Oct 2021) EndedAt: 2021-10-14 10:56:33 -0400 (Thu, 14 Oct 2021) EllapsedTime: 62.7 seconds RetCode: 0 Status: WARNINGS CheckDir: pandaR.Rcheck Warnings: 2