Package: parody Version: 1.50.0 Command: C:\cygwin\bin\curl.exe -O http://155.52.207.165/BBS/3.13/bioc/src/contrib/parody_1.50.0.tar.gz && rm -rf parody.buildbin-libdir && mkdir parody.buildbin-libdir && C:\Users\biocbuild\bbs-3.13-bioc\R\bin\R.exe CMD INSTALL --merge-multiarch --build --library=parody.buildbin-libdir parody_1.50.0.tar.gz && C:\Users\biocbuild\bbs-3.13-bioc\R\bin\R.exe CMD INSTALL parody_1.50.0.zip && rm parody_1.50.0.tar.gz parody_1.50.0.zip StartedAt: 2021-10-14 07:19:08 -0400 (Thu, 14 Oct 2021) EndedAt: 2021-10-14 07:20:02 -0400 (Thu, 14 Oct 2021) EllapsedTime: 53.8 seconds RetCode: 0 Status: OK