Package: pathRender Version: 1.60.0 Command: /Library/Frameworks/R.framework/Versions/Current/Resources/bin/R CMD build --keep-empty-dirs --no-resave-data pathRender StartedAt: 2021-10-14 13:47:38 -0400 (Thu, 14 Oct 2021) EndedAt: 2021-10-14 13:48:22 -0400 (Thu, 14 Oct 2021) EllapsedTime: 43.8 seconds RetCode: 0 Status: OK PackageFile: pathRender_1.60.0.tar.gz PackageFileSize: 198.3 KiB