Package: pathRender Version: 1.60.0 Command: rm -rf pathRender.buildbin-libdir && mkdir pathRender.buildbin-libdir && C:\Users\biocbuild\bbs-3.13-bioc\R\bin\R.exe CMD INSTALL --merge-multiarch --build --library=pathRender.buildbin-libdir pathRender_1.60.0.tar.gz StartedAt: 2021-10-15 10:53:25 -0400 (Fri, 15 Oct 2021) EndedAt: 2021-10-15 10:54:38 -0400 (Fri, 15 Oct 2021) EllapsedTime: 72.7 seconds RetCode: 0 Status: OK PackageFile: pathRender_1.60.0.zip PackageFileSize: 251 KiB