Package: pathRender Version: 1.60.0 Command: chmod a+r pathRender -R && C:\Users\biocbuild\bbs-3.13-bioc\R\bin\R.exe CMD build --keep-empty-dirs --no-resave-data pathRender StartedAt: 2021-10-14 16:37:58 -0400 (Thu, 14 Oct 2021) EndedAt: 2021-10-14 16:38:40 -0400 (Thu, 14 Oct 2021) EllapsedTime: 41.3 seconds RetCode: 0 Status: OK PackageFile: pathRender_1.60.0.tar.gz PackageFileSize: 181.6 KiB