Package: pcaExplorer Version: 2.18.0 Command: chmod a+r pcaExplorer -R && C:\Users\biocbuild\bbs-3.13-bioc\R\bin\R.exe CMD build --keep-empty-dirs --no-resave-data pcaExplorer StartedAt: 2021-10-14 16:39:30 -0400 (Thu, 14 Oct 2021) EndedAt: 2021-10-14 16:51:52 -0400 (Thu, 14 Oct 2021) EllapsedTime: 742.3 seconds RetCode: 0 Status: OK PackageFile: pcaExplorer_2.18.0.tar.gz PackageFileSize: 20.16 MiB