git_url: https://git.bioconductor.org/packages/pdInfoBuilder git_branch: RELEASE_3_13 git_last_commit: 9bbe14d git_last_commit_date: 2021-05-19 11:38:37 -0400 (Wed, 19 May 2021) Package: pdInfoBuilder Version: 1.56.0 Maintainer: Benilton Carvalho MaintainerEmail: benilton at unicamp.br