Package: pdInfoBuilder Version: 1.56.0 Command: rm -rf pdInfoBuilder.buildbin-libdir && mkdir pdInfoBuilder.buildbin-libdir && /Users/biocbuild/BBS/utils/build-universal.sh pdInfoBuilder_1.56.0.tar.gz /Library/Frameworks/R.framework/Versions/Current/Resources/bin/R pdInfoBuilder.buildbin-libdir StartedAt: 2021-10-15 03:26:09 -0400 (Fri, 15 Oct 2021) EndedAt: 2021-10-15 03:27:15 -0400 (Fri, 15 Oct 2021) EllapsedTime: 65.9 seconds RetCode: 0 Status: OK PackageFile: pdInfoBuilder_1.56.0.tgz PackageFileSize: 800 KiB