Package: pdInfoBuilder Version: 1.56.0 Command: /Library/Frameworks/R.framework/Versions/Current/Resources/bin/R CMD INSTALL pdInfoBuilder StartedAt: 2021-10-14 09:11:48 -0400 (Thu, 14 Oct 2021) EndedAt: 2021-10-14 09:12:44 -0400 (Thu, 14 Oct 2021) EllapsedTime: 55.5 seconds RetCode: 0 Status: OK