Package: pdInfoBuilder Version: 1.56.0 Command: /home/biocbuild/bbs-3.13-bioc/R/bin/R CMD INSTALL pdInfoBuilder StartedAt: 2021-10-14 06:14:02 -0400 (Thu, 14 Oct 2021) EndedAt: 2021-10-14 06:14:27 -0400 (Thu, 14 Oct 2021) EllapsedTime: 24.7 seconds RetCode: 0 Status: OK