Package: pdInfoBuilder Version: 1.56.0 Command: rm -rf pdInfoBuilder.buildbin-libdir && mkdir pdInfoBuilder.buildbin-libdir && C:\Users\biocbuild\bbs-3.13-bioc\R\bin\R.exe CMD INSTALL --merge-multiarch --build --library=pdInfoBuilder.buildbin-libdir pdInfoBuilder_1.56.0.tar.gz StartedAt: 2021-10-15 10:54:46 -0400 (Fri, 15 Oct 2021) EndedAt: 2021-10-15 10:56:09 -0400 (Fri, 15 Oct 2021) EllapsedTime: 83.2 seconds RetCode: 0 Status: OK PackageFile: pdInfoBuilder_1.56.0.zip PackageFileSize: 848.9 KiB