Package: pdInfoBuilder Version: 1.56.0 Command: chmod a+r pdInfoBuilder -R && C:\Users\biocbuild\bbs-3.13-bioc\R\bin\R.exe CMD build --keep-empty-dirs --no-resave-data pdInfoBuilder StartedAt: 2021-10-14 16:43:56 -0400 (Thu, 14 Oct 2021) EndedAt: 2021-10-14 16:44:51 -0400 (Thu, 14 Oct 2021) EllapsedTime: 55.7 seconds RetCode: 0 Status: OK PackageFile: pdInfoBuilder_1.56.0.tar.gz PackageFileSize: 347.5 KiB