Package: pdInfoBuilder Version: 1.56.0 Command: C:\cygwin\bin\curl.exe -O http://155.52.207.165/BBS/3.13/bioc/src/contrib/pdInfoBuilder_1.56.0.tar.gz && rm -rf pdInfoBuilder.buildbin-libdir && mkdir pdInfoBuilder.buildbin-libdir && C:\Users\biocbuild\bbs-3.13-bioc\R\bin\R.exe CMD INSTALL --merge-multiarch --build --library=pdInfoBuilder.buildbin-libdir pdInfoBuilder_1.56.0.tar.gz && C:\Users\biocbuild\bbs-3.13-bioc\R\bin\R.exe CMD INSTALL pdInfoBuilder_1.56.0.zip && rm pdInfoBuilder_1.56.0.tar.gz pdInfoBuilder_1.56.0.zip StartedAt: 2021-10-14 08:54:41 -0400 (Thu, 14 Oct 2021) EndedAt: 2021-10-14 08:56:00 -0400 (Thu, 14 Oct 2021) EllapsedTime: 79.5 seconds RetCode: 0 Status: OK