Package: peakPantheR Version: 1.6.1 Command: /Library/Frameworks/R.framework/Versions/Current/Resources/bin/R CMD INSTALL peakPantheR StartedAt: 2021-10-14 08:57:52 -0400 (Thu, 14 Oct 2021) EndedAt: 2021-10-14 08:58:50 -0400 (Thu, 14 Oct 2021) EllapsedTime: 58.8 seconds RetCode: 0 Status: OK