Package: peakPantheR Version: 1.6.1 Command: /home/biocbuild/bbs-3.13-bioc/R/bin/R CMD build --keep-empty-dirs --no-resave-data peakPantheR StartedAt: 2021-10-14 07:58:13 -0400 (Thu, 14 Oct 2021) EndedAt: 2021-10-14 07:59:52 -0400 (Thu, 14 Oct 2021) EllapsedTime: 99.6 seconds RetCode: 0 Status: OK PackageFile: peakPantheR_1.6.1.tar.gz PackageFileSize: 3.884 MiB