Package: pepStat Version: 1.26.0 Command: /home/biocbuild/bbs-3.13-bioc/R/bin/R CMD check --install=check:pepStat.install-out.txt --library=/home/biocbuild/bbs-3.13-bioc/R/library --no-vignettes --timings pepStat_1.26.0.tar.gz StartedAt: 2021-10-14 10:59:29 -0400 (Thu, 14 Oct 2021) EndedAt: 2021-10-14 11:01:31 -0400 (Thu, 14 Oct 2021) EllapsedTime: 122.1 seconds RetCode: 0 Status: OK CheckDir: pepStat.Rcheck Warnings: 0