Package: pepXMLTab Version: 1.26.0 Command: /home/biocbuild/bbs-3.13-bioc/R/bin/R CMD check --install=check:pepXMLTab.install-out.txt --library=/home/biocbuild/bbs-3.13-bioc/R/library --no-vignettes --timings pepXMLTab_1.26.0.tar.gz StartedAt: 2021-10-14 10:59:37 -0400 (Thu, 14 Oct 2021) EndedAt: 2021-10-14 10:59:58 -0400 (Thu, 14 Oct 2021) EllapsedTime: 20.9 seconds RetCode: 0 Status: OK CheckDir: pepXMLTab.Rcheck Warnings: 0