Package: perturbatr Version: 1.12.0 Command: /Library/Frameworks/R.framework/Versions/Current/Resources/bin/R CMD build --keep-empty-dirs --no-resave-data perturbatr StartedAt: 2021-10-14 13:52:09 -0400 (Thu, 14 Oct 2021) EndedAt: 2021-10-14 13:52:57 -0400 (Thu, 14 Oct 2021) EllapsedTime: 47.7 seconds RetCode: 0 Status: OK PackageFile: perturbatr_1.12.0.tar.gz PackageFileSize: 3.156 MiB