Package: perturbatr Version: 1.12.0 Command: /Library/Frameworks/R.framework/Versions/Current/Resources/bin/R CMD check --install=check:perturbatr.install-out.txt --library=/Library/Frameworks/R.framework/Versions/Current/Resources/library --no-vignettes --timings perturbatr_1.12.0.tar.gz StartedAt: 2021-10-14 22:13:36 -0400 (Thu, 14 Oct 2021) EndedAt: 2021-10-14 22:23:41 -0400 (Thu, 14 Oct 2021) EllapsedTime: 604.5 seconds RetCode: 1 Status: ERROR CheckDir: perturbatr.Rcheck Warnings: NA