Package: pgca Version: 1.16.0 Command: chmod a+r pgca -R && C:\Users\biocbuild\bbs-3.13-bioc\R\bin\R.exe CMD build --keep-empty-dirs --no-resave-data pgca StartedAt: 2021-10-14 16:51:14 -0400 (Thu, 14 Oct 2021) EndedAt: 2021-10-14 16:51:25 -0400 (Thu, 14 Oct 2021) EllapsedTime: 11.3 seconds RetCode: 0 Status: OK PackageFile: pgca_1.16.0.tar.gz PackageFileSize: 220.1 KiB