Package: pgca Version: 1.16.0 Command: C:\Users\biocbuild\bbs-3.13-bioc\R\bin\R.exe CMD check --force-multiarch --install=check:pgca.install-out.txt --library=C:\Users\biocbuild\bbs-3.13-bioc\R\library --no-vignettes --timings pgca_1.16.0.tar.gz StartedAt: 2021-10-15 03:18:51 -0400 (Fri, 15 Oct 2021) EndedAt: 2021-10-15 03:19:25 -0400 (Fri, 15 Oct 2021) EllapsedTime: 34.0 seconds RetCode: 0 Status: OK CheckDir: pgca.Rcheck Warnings: 0