Package: phenopath Version: 1.16.0 Command: /home/biocbuild/bbs-3.13-bioc/R/bin/R CMD INSTALL phenopath StartedAt: 2021-10-14 06:16:31 -0400 (Thu, 14 Oct 2021) EndedAt: 2021-10-14 06:17:02 -0400 (Thu, 14 Oct 2021) EllapsedTime: 31.4 seconds RetCode: 0 Status: OK