Package: phyloseq Version: 1.36.0 Command: /Library/Frameworks/R.framework/Versions/Current/Resources/bin/R CMD INSTALL phyloseq StartedAt: 2021-10-14 08:54:49 -0400 (Thu, 14 Oct 2021) EndedAt: 2021-10-14 08:55:42 -0400 (Thu, 14 Oct 2021) EllapsedTime: 53.1 seconds RetCode: 0 Status: OK