Package: phyloseq Version: 1.36.0 Command: chmod a+r phyloseq -R && C:\Users\biocbuild\bbs-3.13-bioc\R\bin\R.exe CMD build --keep-empty-dirs --no-resave-data phyloseq StartedAt: 2021-10-14 16:55:32 -0400 (Thu, 14 Oct 2021) EndedAt: 2021-10-14 17:08:11 -0400 (Thu, 14 Oct 2021) EllapsedTime: 759.1 seconds RetCode: 0 Status: OK PackageFile: phyloseq_1.36.0.tar.gz PackageFileSize: 3.681 MiB