git_url: https://git.bioconductor.org/packages/pipeComp git_branch: RELEASE_3_13 git_last_commit: b8a4bed git_last_commit_date: 2021-05-19 12:53:31 -0400 (Wed, 19 May 2021) Package: pipeComp Version: 1.2.0 Maintainer: Pierre-Luc Germain MaintainerEmail: pierre-luc.germain at hest.ethz.ch