Package: pipeComp Version: 1.2.0 Command: rm -rf pipeComp.buildbin-libdir && mkdir pipeComp.buildbin-libdir && C:\Users\biocbuild\bbs-3.13-bioc\R\bin\R.exe CMD INSTALL --merge-multiarch --build --library=pipeComp.buildbin-libdir pipeComp_1.2.0.tar.gz StartedAt: 2021-10-15 10:59:24 -0400 (Fri, 15 Oct 2021) EndedAt: 2021-10-15 11:00:48 -0400 (Fri, 15 Oct 2021) EllapsedTime: 84.0 seconds RetCode: 0 Status: OK PackageFile: pipeComp_1.2.0.zip PackageFileSize: 3.157 MiB