Package: plgem Version: 1.64.0 Command: rm -rf plgem.buildbin-libdir && mkdir plgem.buildbin-libdir && /Users/biocbuild/BBS/utils/build-universal.sh plgem_1.64.0.tar.gz /Library/Frameworks/R.framework/Versions/Current/Resources/bin/R plgem.buildbin-libdir StartedAt: 2021-10-15 03:29:28 -0400 (Fri, 15 Oct 2021) EndedAt: 2021-10-15 03:30:37 -0400 (Fri, 15 Oct 2021) EllapsedTime: 69.1 seconds RetCode: 0 Status: OK PackageFile: plgem_1.64.0.tgz PackageFileSize: 1.025 MiB