Package: plyranges Version: 1.12.1 Command: /Library/Frameworks/R.framework/Versions/Current/Resources/bin/R CMD check --install=check:plyranges.install-out.txt --library=/Library/Frameworks/R.framework/Versions/Current/Resources/library --no-vignettes --timings plyranges_1.12.1.tar.gz StartedAt: 2021-10-14 22:24:38 -0400 (Thu, 14 Oct 2021) EndedAt: 2021-10-14 22:30:40 -0400 (Thu, 14 Oct 2021) EllapsedTime: 361.9 seconds RetCode: 0 Status: OK CheckDir: plyranges.Rcheck Warnings: 0