Package: plyranges Version: 1.12.1 Command: /home/biocbuild/bbs-3.13-bioc/R/bin/R CMD build --keep-empty-dirs --no-resave-data plyranges StartedAt: 2021-10-14 08:01:21 -0400 (Thu, 14 Oct 2021) EndedAt: 2021-10-14 08:02:12 -0400 (Thu, 14 Oct 2021) EllapsedTime: 51.3 seconds RetCode: 0 Status: OK PackageFile: plyranges_1.12.1.tar.gz PackageFileSize: 1.221 MiB