Package: plyranges Version: 1.12.1 Command: /home/biocbuild/bbs-3.13-bioc/R/bin/R CMD INSTALL plyranges StartedAt: 2021-10-14 06:23:10 -0400 (Thu, 14 Oct 2021) EndedAt: 2021-10-14 06:23:40 -0400 (Thu, 14 Oct 2021) EllapsedTime: 29.9 seconds RetCode: 0 Status: OK