Package: plyranges Version: 1.12.1 Command: C:\cygwin\bin\curl.exe -O http://155.52.207.165/BBS/3.13/bioc/src/contrib/plyranges_1.12.1.tar.gz && rm -rf plyranges.buildbin-libdir && mkdir plyranges.buildbin-libdir && C:\Users\biocbuild\bbs-3.13-bioc\R\bin\R.exe CMD INSTALL --merge-multiarch --build --library=plyranges.buildbin-libdir plyranges_1.12.1.tar.gz && C:\Users\biocbuild\bbs-3.13-bioc\R\bin\R.exe CMD INSTALL plyranges_1.12.1.zip && rm plyranges_1.12.1.tar.gz plyranges_1.12.1.zip StartedAt: 2021-10-14 10:28:21 -0400 (Thu, 14 Oct 2021) EndedAt: 2021-10-14 10:29:15 -0400 (Thu, 14 Oct 2021) EllapsedTime: 54.2 seconds RetCode: 0 Status: OK