Package: podkat Version: 1.24.0 Command: /home/biocbuild/bbs-3.13-bioc/R/bin/R CMD INSTALL podkat StartedAt: 2021-10-14 06:24:49 -0400 (Thu, 14 Oct 2021) EndedAt: 2021-10-14 06:26:13 -0400 (Thu, 14 Oct 2021) EllapsedTime: 83.2 seconds RetCode: 0 Status: OK