git_url: https://git.bioconductor.org/packages/pogos git_branch: RELEASE_3_13 git_last_commit: 2735342 git_last_commit_date: 2021-08-29 09:34:59 -0400 (Sun, 29 Aug 2021) Package: pogos Version: 1.12.2 Maintainer: VJ Carey MaintainerEmail: stvjc at channing.harvard.edu