Package: pogos Version: 1.12.2 Command: /Library/Frameworks/R.framework/Versions/Current/Resources/bin/R CMD build --keep-empty-dirs --no-resave-data pogos StartedAt: 2021-10-14 13:58:59 -0400 (Thu, 14 Oct 2021) EndedAt: 2021-10-14 14:00:19 -0400 (Thu, 14 Oct 2021) EllapsedTime: 80.8 seconds RetCode: 0 Status: OK PackageFile: pogos_1.12.2.tar.gz PackageFileSize: 1.187 MiB