Package: pogos Version: 1.12.2 Command: /home/biocbuild/bbs-3.13-bioc/R/bin/R CMD build --keep-empty-dirs --no-resave-data pogos StartedAt: 2021-10-14 08:01:31 -0400 (Thu, 14 Oct 2021) EndedAt: 2021-10-14 08:02:26 -0400 (Thu, 14 Oct 2021) EllapsedTime: 54.7 seconds RetCode: 0 Status: OK PackageFile: pogos_1.12.2.tar.gz PackageFileSize: 1.199 MiB