Package: pogos Version: 1.12.2 Command: chmod a+r pogos -R && C:\Users\biocbuild\bbs-3.13-bioc\R\bin\R.exe CMD build --keep-empty-dirs --no-resave-data pogos StartedAt: 2021-10-14 17:00:16 -0400 (Thu, 14 Oct 2021) EndedAt: 2021-10-14 17:00:57 -0400 (Thu, 14 Oct 2021) EllapsedTime: 41.3 seconds RetCode: 1 Status: ERROR PackageFile: None PackageFileSize: NA