Package: ppiStats Version: 1.58.0 Command: /Library/Frameworks/R.framework/Versions/Current/Resources/bin/R CMD check --install=check:ppiStats.install-out.txt --library=/Library/Frameworks/R.framework/Versions/Current/Resources/library --no-vignettes --timings ppiStats_1.58.0.tar.gz StartedAt: 2021-10-14 22:28:34 -0400 (Thu, 14 Oct 2021) EndedAt: 2021-10-14 22:31:59 -0400 (Thu, 14 Oct 2021) EllapsedTime: 204.8 seconds RetCode: 0 Status: OK CheckDir: ppiStats.Rcheck Warnings: 0