Package: ppiStats Version: 1.58.0 Command: /home/biocbuild/bbs-3.13-bioc/R/bin/R CMD check --install=check:ppiStats.install-out.txt --library=/home/biocbuild/bbs-3.13-bioc/R/library --no-vignettes --timings ppiStats_1.58.0.tar.gz StartedAt: 2021-10-14 11:04:48 -0400 (Thu, 14 Oct 2021) EndedAt: 2021-10-14 11:07:20 -0400 (Thu, 14 Oct 2021) EllapsedTime: 151.1 seconds RetCode: 0 Status: OK CheckDir: ppiStats.Rcheck Warnings: 0