Package: pqsfinder Version: 2.8.0 Command: rm -rf pqsfinder.buildbin-libdir && mkdir pqsfinder.buildbin-libdir && /Users/biocbuild/BBS/utils/build-universal.sh pqsfinder_2.8.0.tar.gz /Library/Frameworks/R.framework/Versions/Current/Resources/bin/R pqsfinder.buildbin-libdir StartedAt: 2021-10-15 03:31:09 -0400 (Fri, 15 Oct 2021) EndedAt: 2021-10-15 03:33:17 -0400 (Fri, 15 Oct 2021) EllapsedTime: 128.0 seconds RetCode: 0 Status: OK PackageFile: pqsfinder_2.8.0.tgz PackageFileSize: 3.016 MiB