Package: pqsfinder Version: 2.8.0 Command: /Library/Frameworks/R.framework/Versions/Current/Resources/bin/R CMD build --keep-empty-dirs --no-resave-data pqsfinder StartedAt: 2021-10-14 14:00:36 -0400 (Thu, 14 Oct 2021) EndedAt: 2021-10-14 14:03:49 -0400 (Thu, 14 Oct 2021) EllapsedTime: 193.3 seconds RetCode: 0 Status: OK PackageFile: pqsfinder_2.8.0.tar.gz PackageFileSize: 391.7 KiB