Package: pqsfinder Version: 2.8.0 Command: rm -rf pqsfinder.buildbin-libdir && mkdir pqsfinder.buildbin-libdir && C:\Users\biocbuild\bbs-3.13-bioc\R\bin\R.exe CMD INSTALL --merge-multiarch --build --library=pqsfinder.buildbin-libdir pqsfinder_2.8.0.tar.gz StartedAt: 2021-10-15 11:02:36 -0400 (Fri, 15 Oct 2021) EndedAt: 2021-10-15 11:05:41 -0400 (Fri, 15 Oct 2021) EllapsedTime: 185.3 seconds RetCode: 0 Status: OK PackageFile: pqsfinder_2.8.0.zip PackageFileSize: 2.451 MiB