Package: preciseTAD Version: 1.2.0 Command: /home/biocbuild/bbs-3.13-bioc/R/bin/R CMD build --keep-empty-dirs --no-resave-data preciseTAD StartedAt: 2021-10-14 08:02:13 -0400 (Thu, 14 Oct 2021) EndedAt: 2021-10-14 08:07:47 -0400 (Thu, 14 Oct 2021) EllapsedTime: 334.0 seconds RetCode: 0 Status: OK PackageFile: preciseTAD_1.2.0.tar.gz PackageFileSize: 4.36 MiB