Package: preciseTAD Version: 1.2.0 Command: C:\cygwin\bin\curl.exe -O http://155.52.207.165/BBS/3.13/bioc/src/contrib/preciseTAD_1.2.0.tar.gz && rm -rf preciseTAD.buildbin-libdir && mkdir preciseTAD.buildbin-libdir && C:\Users\biocbuild\bbs-3.13-bioc\R\bin\R.exe CMD INSTALL --merge-multiarch --build --library=preciseTAD.buildbin-libdir preciseTAD_1.2.0.tar.gz && C:\Users\biocbuild\bbs-3.13-bioc\R\bin\R.exe CMD INSTALL preciseTAD_1.2.0.zip && rm preciseTAD_1.2.0.tar.gz preciseTAD_1.2.0.zip StartedAt: 2021-10-14 09:58:16 -0400 (Thu, 14 Oct 2021) EndedAt: 2021-10-14 09:59:05 -0400 (Thu, 14 Oct 2021) EllapsedTime: 48.3 seconds RetCode: 0 Status: OK