Package: primirTSS Version: 1.10.0 Command: /home/biocbuild/bbs-3.13-bioc/R/bin/R CMD check --install=check:primirTSS.install-out.txt --library=/home/biocbuild/bbs-3.13-bioc/R/library --no-vignettes --timings primirTSS_1.10.0.tar.gz StartedAt: 2021-10-14 11:05:54 -0400 (Thu, 14 Oct 2021) EndedAt: 2021-10-14 11:09:44 -0400 (Thu, 14 Oct 2021) EllapsedTime: 229.8 seconds RetCode: 0 Status: WARNINGS CheckDir: primirTSS.Rcheck Warnings: 1