Package: proActiv Version: 1.2.0 Command: rm -rf proActiv.buildbin-libdir && mkdir proActiv.buildbin-libdir && /Users/biocbuild/BBS/utils/build-universal.sh proActiv_1.2.0.tar.gz /Library/Frameworks/R.framework/Versions/Current/Resources/bin/R proActiv.buildbin-libdir StartedAt: 2021-10-15 03:32:01 -0400 (Fri, 15 Oct 2021) EndedAt: 2021-10-15 03:33:06 -0400 (Fri, 15 Oct 2021) EllapsedTime: 64.7 seconds RetCode: 0 Status: OK PackageFile: proActiv_1.2.0.tgz PackageFileSize: 2.805 MiB