Package: proBAMr Version: 1.26.0 Command: /Library/Frameworks/R.framework/Versions/Current/Resources/bin/R CMD check --install=check:proBAMr.install-out.txt --library=/Library/Frameworks/R.framework/Versions/Current/Resources/library --no-vignettes --timings proBAMr_1.26.0.tar.gz StartedAt: 2021-10-14 22:32:11 -0400 (Thu, 14 Oct 2021) EndedAt: 2021-10-14 22:37:38 -0400 (Thu, 14 Oct 2021) EllapsedTime: 326.5 seconds RetCode: 0 Status: OK CheckDir: proBAMr.Rcheck Warnings: 0