Package: proBAMr Version: 1.26.0 Command: rm -rf proBAMr.buildbin-libdir && mkdir proBAMr.buildbin-libdir && C:\Users\biocbuild\bbs-3.13-bioc\R\bin\R.exe CMD INSTALL --merge-multiarch --build --library=proBAMr.buildbin-libdir proBAMr_1.26.0.tar.gz StartedAt: 2021-10-15 11:04:06 -0400 (Fri, 15 Oct 2021) EndedAt: 2021-10-15 11:05:49 -0400 (Fri, 15 Oct 2021) EllapsedTime: 103.1 seconds RetCode: 0 Status: OK PackageFile: proBAMr_1.26.0.zip PackageFileSize: 586.3 KiB