Package: proDA Version: 1.6.0 Command: /home/biocbuild/bbs-3.13-bioc/R/bin/R CMD build --keep-empty-dirs --no-resave-data proDA StartedAt: 2021-10-14 08:03:29 -0400 (Thu, 14 Oct 2021) EndedAt: 2021-10-14 08:04:54 -0400 (Thu, 14 Oct 2021) EllapsedTime: 85.0 seconds RetCode: 0 Status: OK PackageFile: proDA_1.6.0.tar.gz PackageFileSize: 1.215 MiB