Package: proDA Version: 1.6.0 Command: /home/biocbuild/bbs-3.13-bioc/R/bin/R CMD check --install=check:proDA.install-out.txt --library=/home/biocbuild/bbs-3.13-bioc/R/library --no-vignettes --timings proDA_1.6.0.tar.gz StartedAt: 2021-10-14 11:06:39 -0400 (Thu, 14 Oct 2021) EndedAt: 2021-10-14 11:11:07 -0400 (Thu, 14 Oct 2021) EllapsedTime: 268.5 seconds RetCode: 0 Status: OK CheckDir: proDA.Rcheck Warnings: 0