git_url: https://git.bioconductor.org/packages/procoil git_branch: RELEASE_3_13 git_last_commit: 8884085 git_last_commit_date: 2021-05-19 11:47:27 -0400 (Wed, 19 May 2021) Package: procoil Version: 2.20.0 Maintainer: Ulrich Bodenhofer MaintainerEmail: bodenhofer at bioinf.jku.at